BEGIN:VCALENDAR
VERSION:2.0
PRODID:-//Buckingham County Guide - ECPv6.15.19//NONSGML v1.0//EN
CALSCALE:GREGORIAN
METHOD:PUBLISH
X-WR-CALNAME:Buckingham County Guide
X-ORIGINAL-URL:https://buckinghamcountyguide.com
X-WR-CALDESC:Events for Buckingham County Guide
REFRESH-INTERVAL;VALUE=DURATION:PT1H
X-Robots-Tag:noindex
X-PUBLISHED-TTL:PT1H
BEGIN:VTIMEZONE
TZID:Europe/London
BEGIN:DAYLIGHT
TZOFFSETFROM:+0000
TZOFFSETTO:+0100
TZNAME:BST
DTSTART:20250330T010000
END:DAYLIGHT
BEGIN:STANDARD
TZOFFSETFROM:+0100
TZOFFSETTO:+0000
TZNAME:GMT
DTSTART:20251026T010000
END:STANDARD
BEGIN:DAYLIGHT
TZOFFSETFROM:+0000
TZOFFSETTO:+0100
TZNAME:BST
DTSTART:20260329T010000
END:DAYLIGHT
BEGIN:STANDARD
TZOFFSETFROM:+0100
TZOFFSETTO:+0000
TZNAME:GMT
DTSTART:20261025T010000
END:STANDARD
BEGIN:DAYLIGHT
TZOFFSETFROM:+0000
TZOFFSETTO:+0100
TZNAME:BST
DTSTART:20270328T010000
END:DAYLIGHT
BEGIN:STANDARD
TZOFFSETFROM:+0100
TZOFFSETTO:+0000
TZNAME:GMT
DTSTART:20271031T010000
END:STANDARD
END:VTIMEZONE
BEGIN:VEVENT
DTSTART;TZID=Europe/London:20260425T090000
DTEND;TZID=Europe/London:20260425T130000
DTSTAMP:20260425T012914
CREATED:20260408T094042Z
LAST-MODIFIED:20260408T103117Z
UID:10000024-1777107600-1777122000@buckinghamcountyguide.com
SUMMARY:4TH Annual Antique Tractor Show
DESCRIPTION:
URL:https://buckinghamcountyguide.com/event/4th-annual-antique-tractor-show/
LOCATION:James River Equipment\, 284 Main Street Dillwyn\, VA 23936
CATEGORIES:Expos | Shows
ATTACH;FMTTYPE=image/jpeg:https://buckinghamcountyguide.com/wp-content/uploads/2026/04/antique_tractor_flyer_enhanced.jpg
END:VEVENT
BEGIN:VEVENT
DTSTART;TZID=Europe/London:20260425T100000
DTEND;TZID=Europe/London:20260425T150000
DTSTAMP:20260425T012914
CREATED:20260324T141230Z
LAST-MODIFIED:20260408T103641Z
UID:10000002-1777111200-1777129200@buckinghamcountyguide.com
SUMMARY:James River Earth Fest
DESCRIPTION:Celebrate Earth Day in a big way at James River State Park! This year’s fair at Canoe Landing is packed with hands-on activities\, family fun\, and opportunities to make a real difference for the natural spaces we all love. \nIn celebration of Earth Day on April 22\, Virginia State Parks offers a range of special events and activities highlighting the importance of conservation and sustainability. Visitors are invited to participate in educational programs\, guided nature walks\, wildlife observation\, tree plantings and service projects to help preserve the beauty and biodiversity of the state’s 44 parks. \nFor more information\, please call (434) 933-8527 or email Tess.Himelspach@dcr.virginia.gov. \nOther details\nStandard parking or admission fee applies: Yes.\nExtra fee: No.\nRegistration required: No.\nChildren welcome: Yes.\nPhone: 434-933-4355\nEmail Address: JamesRiver@dcr.virginia.gov
URL:https://buckinghamcountyguide.com/event/james-river-earth-fest/
LOCATION:James River State Park\, 104 Green Hill Dr.\, Gladstone\, VA 24553\, Gladstone\, Virginia\, 24553
CATEGORIES:Family
ATTACH;FMTTYPE=image/png:https://buckinghamcountyguide.com/wp-content/uploads/2026/03/earth-day-event-infographic.png
END:VEVENT
BEGIN:VEVENT
DTSTART;TZID=Europe/London:20260425T100000
DTEND;TZID=Europe/London:20260425T160000
DTSTAMP:20260425T012914
CREATED:20260408T100710Z
LAST-MODIFIED:20260408T104508Z
UID:10000033-1777111200-1777132800@buckinghamcountyguide.com
SUMMARY:Barn Quilt Painting Class
DESCRIPTION:Come to Buckingham County on Saturday\, April 25\, 2026 to the Curdsville Community Center for our first Barn Quilt Painting Class and enjoy a day of fun.  Please arrive at 9:45 a.m. class will begin promptly at 10:00 a.m. Fees from the class will help us continue making improvements to our 111 year-old Curdsville Community Center.    INVITE A FRIEND! \nALL SKILL LEVELS WELCOME!    No experience needed to complete your very own barn quilt.  In this class you will be instructed on how to tape and paint your board so that once completed you will have a beautiful 2’x2’ barn quilt!  Your creation can be displayed indoors or out (on a shed\, back porch or on your barn).  Can’t think of a place to hang one?  How about painting one as a gift for that special friend. \nAll materials provided. No painting experience required! Cost: $100.00 Come join the fun.
URL:https://buckinghamcountyguide.com/event/barn-quilt-painting-class/
LOCATION:Curdsville Community Center\, Curdsville Community Center\, 122 School Rd\, Dillwyn\, VA 23936\, USA
CATEGORIES:Learning
ATTACH;FMTTYPE=image/png:https://buckinghamcountyguide.com/wp-content/uploads/2026/04/7d5baa_1a50eeba17534c00bca35cfeea09de28mv2.png
END:VEVENT
BEGIN:VEVENT
DTSTART;TZID=Europe/London:20260425T190000
DTEND;TZID=Europe/London:20260425T210000
DTSTAMP:20260425T012914
CREATED:20260325T122747Z
LAST-MODIFIED:20260408T103718Z
UID:10000018-1777143600-1777150800@buckinghamcountyguide.com
SUMMARY:Wild about Bats!
DESCRIPTION:As the sun dips low and the night draws near\, we humans usually turn in for the night…but this is show-time for bats! Join us to celebrate these amazing animals during this special series in collaboration with Bat Conservation & Rescue of Virginia. You’ll get a rare chance to come face-to-face with these mysterious creatures\, learn all about them from local bat rehabilitators\, and identify bats in flight using specialized sound-detecting equipment. \nThis program will be conducted under a covered shelter with seating and includes optional slow-paced walking. The evening will begin with an informational talk about these unique animals\, bat-themed crafts\, and face painting\, and conclude with a walk to detect bats as they come out for early-evening hunting. You will also have the opportunity to meet one the Bat Conservation & Rescue of Virginia’s rehabilitated bats! \nPlease meet at Shelter #4. Suitable for all ages. Bring binoculars if you have them\, and if you decide to bring a light please use it on a red light setting to avoid disturbing nocturnal wildlife. Wear appropriate clothing and shoes for the weather and bring a water bottle with you. Parks are for everyone\, please let us (434) 933-4355 know if you need special accommodation. \nFor more information\, please call (434) 933-4355 or email Tess.Himelspach@dcr.virginia.gov. \nKnow Before You Go: Before your visit\, find the most up to date health and safety information here.
URL:https://buckinghamcountyguide.com/event/wild-about-bats/2026-04-25/
LOCATION:James River State Park\, 104 Green Hill Dr.\, Gladstone\, VA 24553\, Gladstone\, Virginia\, 24553
CATEGORIES:Animals | Pets
ATTACH;FMTTYPE=image/jpeg:https://buckinghamcountyguide.com/wp-content/uploads/2026/03/wild-bat-on-a-log.jpg
END:VEVENT
END:VCALENDAR